BEGIN:VCALENDAR
VERSION:2.0
PRODID:-//KnowledgeGut//SHAPE Course Schedule//ZH-TW
CALSCALE:GREGORIAN
METHOD:PUBLISH
X-WR-CALNAME:S.H.A.P.E. 陪跑課表（週四直播）
X-WR-TIMEZONE:Asia/Taipei
X-WR-CALDESC:知識包小腸 S.H.A.P.E. 知識管理大課第一期 — 每週四晚 20:00-22:00

BEGIN:VTIMEZONE
TZID:Asia/Taipei
BEGIN:STANDARD
DTSTART:19700101T000000
TZOFFSETFROM:+0800
TZOFFSETTO:+0800
TZNAME:CST
END:STANDARD
END:VTIMEZONE

BEGIN:VEVENT
UID:shape-20260423-restart@knowledgegut.com
DTSTAMP:20260421T070000Z
DTSTART;TZID=Asia/Taipei:20260423T200000
DTEND;TZID=Asia/Taipei:20260423T220000
SUMMARY:🌭 Claude Code 分享會 S.H.A.P.E.
DESCRIPTION:陪跑正式重啟，回到軌道上。當晚直接進入 Claude Code 分享會。\n\n課表：https://shape-1.knowledgegut.com
LOCATION:線上直播
STATUS:CONFIRMED
END:VEVENT

BEGIN:VEVENT
UID:shape-20260430-p@knowledgegut.com
DTSTAMP:20260421T070000Z
DTSTART;TZID=Asia/Taipei:20260430T200000
DTEND;TZID=Asia/Taipei:20260430T220000
SUMMARY:🌭 【P 階段】 S.H.A.P.E.
DESCRIPTION:Claude Code 分享會後一週，正式進入 P 階段。\n\n課表：https://shape-1.knowledgegut.com
LOCATION:線上直播
STATUS:CONFIRMED
END:VEVENT

BEGIN:VEVENT
UID:shape-20260507-e@knowledgegut.com
DTSTAMP:20260421T070000Z
DTSTART;TZID=Asia/Taipei:20260507T200000
DTEND;TZID=Asia/Taipei:20260507T220000
SUMMARY:🌭 【E 階段】 S.H.A.P.E.
DESCRIPTION:P 階段後一週，收尾階段開始。\n\n課表：https://shape-1.knowledgegut.com
LOCATION:線上直播
STATUS:CONFIRMED
END:VEVENT

BEGIN:VEVENT
UID:shape-20260514-graduation@knowledgegut.com
DTSTAMP:20260421T070000Z
DTSTART;TZID=Asia/Taipei:20260514T200000
DTEND;TZID=Asia/Taipei:20260514T220000
SUMMARY:🌭 結業式 S.H.A.P.E.
DESCRIPTION:E 階段後一週，大課正式畢業。接著進入讀書會時段。\n\n課表：https://shape-1.knowledgegut.com
LOCATION:線上直播
STATUS:CONFIRMED
END:VEVENT

BEGIN:VEVENT
UID:shape-20260521-bookclub1@knowledgegut.com
DTSTAMP:20260421T070000Z
DTSTART;TZID=Asia/Taipei:20260521T200000
DTEND;TZID=Asia/Taipei:20260521T220000
SUMMARY:🌭 讀書會：《納瓦爾寶典》共讀 (1/2)
DESCRIPTION:一起讀《納瓦爾寶典》，用記憶樹筆記法共創知識庫。\n\n課表：https://shape-1.knowledgegut.com
LOCATION:線上直播
STATUS:CONFIRMED
END:VEVENT

BEGIN:VEVENT
UID:shape-20260528-bookclub2@knowledgegut.com
DTSTAMP:20260421T070000Z
DTSTART;TZID=Asia/Taipei:20260528T200000
DTEND;TZID=Asia/Taipei:20260528T220000
SUMMARY:🌭 讀書會：《納瓦爾寶典》共讀 (2/2)
DESCRIPTION:一起讀《納瓦爾寶典》，用記憶樹筆記法共創知識庫。\n\n課表：https://shape-1.knowledgegut.com
LOCATION:線上直播
STATUS:CONFIRMED
END:VEVENT

END:VCALENDAR
